BEGIN:VCALENDAR
VERSION:2.0
PRODID:-//Planting the Seed of Faith - ECPv6.15.20//NONSGML v1.0//EN
CALSCALE:GREGORIAN
METHOD:PUBLISH
X-ORIGINAL-URL:https://plantingtheseedoffaith.org
X-WR-CALDESC:Events for Planting the Seed of Faith
REFRESH-INTERVAL;VALUE=DURATION:PT1H
X-Robots-Tag:noindex
X-PUBLISHED-TTL:PT1H
BEGIN:VTIMEZONE
TZID:UTC
BEGIN:STANDARD
TZOFFSETFROM:+0000
TZOFFSETTO:+0000
TZNAME:UTC
DTSTART:20230101T000000
END:STANDARD
END:VTIMEZONE
BEGIN:VEVENT
DTSTART;TZID=UTC:20240308T170000
DTEND;TZID=UTC:20240308T183000
DTSTAMP:20260423T155936
CREATED:20240114T043959Z
LAST-MODIFIED:20240114T121719Z
UID:389-1709917200-1709922600@plantingtheseedoffaith.org
SUMMARY:FATHER PETER HANNA CONCERT
DESCRIPTION:FATHER PETER HANNA CONCERT\n\n← Back Thank you for your response. ✨\n\n\n					\n						\n							\n							\n						\n						\n						\n						\n						\n							\n								\n									\n										\n										\n									\n									\n										\n										\n									\n								\n							\n						\n						\n							\n								\n									\n									\n										\n									\n									\n									\n								\n							\n						\n					\n				\n\n\n\nName(required)\n\n \n			\n				\n					\n						\n						\n						\n					\n				\n				\n			 \n	\n\n\nEmail(required)\n\n \n			\n				\n					\n						\n						\n						\n					\n				\n				\n			 \n	\n\n\nWebsite\n\n \n			\n				\n					\n						\n						\n						\n					\n				\n				\n			 \n	\n\n\nMessage\n\n \n			\n				\n					\n						\n						\n						\n					\n				\n				\n			\n	\n	\n\n				\n					\n				\n						Submit		\n		\n		\n	 \n\n\nPlease enable JavaScript in your browser to complete this form.Please enable JavaScript in your browser to complete this form.Name *FirstLastEmail *Comment or MessageSubmit  \n  \nFATHER PETER HANNA CONCERT
URL:https://plantingtheseedoffaith.org/event/father-peter-hanna-concert/
END:VEVENT
END:VCALENDAR